View In:
ArcGIS JavaScript
ArcGIS Online Map Viewer
ArcGIS Earth
Service Description: Test/B13_202311231710_tif
Name: Test/B13_202311231710_tif
Description:
Single Fused Map Cache: false
Extent:
XMin: -140
YMin: -60
XMax: -29.999999999999986
YMax: 20
Spatial Reference: 4326
(4326)
Initial Extent:
XMin: -140
YMin: -60
XMax: -29.999999999999986
YMax: 20
Spatial Reference: 4326
(4326)
Full Extent:
XMin: -140
YMin: -60
XMax: -29.999999999999986
YMax: 20
Spatial Reference: 4326
(4326)
Pixel Size X: 0.017988552739165987
Pixel Size Y: 0.01798965594783
Band Count: 1
Pixel Type: U8
RasterFunction Infos: {"rasterFunctionInfos": [
{
"name": "Simb_Test_Multitemporal",
"description": "Simb_Test_Multitemporal",
"help": ""
},
{
"name": "None",
"description": "",
"help": ""
}
]}
Mensuration Capabilities: Basic
Inspection Capabilities:
Has Histograms: true
Has Colormap: false
Has Multi Dimensions : false
Rendering Rule:
Min Scale: 0
Max Scale: 0
Copyright Text:
Service Data Type: esriImageServiceDataTypeGeneric
Min Values: 0
Max Values: 232
Mean Values: 104.71059887498
Standard Deviation Values: 37.792561290553
Object ID Field:
Fields:
None
Default Mosaic Method: Center
Allowed Mosaic Methods:
SortField:
SortValue: null
Mosaic Operator: First
Default Compression Quality: 75
Default Resampling Method: Bilinear
Max Record Count: null
Max Image Height: 4100
Max Image Width: 15000
Max Download Image Count: null
Max Mosaic Image Count: null
Allow Raster Function: true
Allow Copy: true
Allow Analysis: true
Allow Compute TiePoints: false
Supports Statistics: false
Supports Advanced Queries: false
Use StandardizedQueries: true
Raster Type Infos:
Name: Raster Dataset
Description: Supports all ArcGIS Raster Datasets
Help:
Has Raster Attribute Table: false
Edit Fields Info: null
Ownership Based AccessControl For Rasters: null
Child Resources:
Info
Histograms
Statistics
Key Properties
Legend
Raster Function Infos
Supported Operations:
Export Image
Identify
Measure
Compute Histograms
Compute Statistics Histograms
Get Samples
Compute Class Statistics
Query Boundary
Compute Pixel Location
Compute Angles
Validate
Project